BEGIN:VCALENDAR
PRODID:-//dvv-bw.de//dvv.Portalplattform//DE
VERSION:2.0
METHOD:PUBLISH
BEGIN:VEVENT
DTSTART:20260531T130000Z
DTEND:20260531T150000Z
DTSTAMP:20260419T132236Z
UID:523253408191-523247451071-1780178400000
SUMMARY:Tanzcafé
LOCATION:Treff Zehntscheuer, Maiergasse 8, 70771 Leinfelden-Echterdingen
DESCRIPTION:Mit Schwung und Wolfgang Schöners Tanzmusik\, Standard und Latein oder auch nur Kaffee und Kuchen – verbringen Sie einen schönen Nachmittag im Bürgersaal der Zehntscheuer Echterdingen. Auch Einzelpersonen sind willkommen und können mittanzen. Musik\, Kaffee und Kuchen: 10 Euro.
CLASS:PUBLIC
X-ALT-DESC;FMTTYPE=text/html:Mit Schwung und Wolfgang Schöners Tanzmusik\, Standard und Latein oder auch nur Kaffee und Kuchen &ndash; verbringen Sie einen schönen Nachmittag im Bürgersaal der Zehntscheuer Echterdingen. Auch Einzelpersonen sind willkommen und können mittanzen. Musik\, Kaffee und Kuchen: 10 Euro.
END:VEVENT
END:VCALENDAR
