BEGIN:VCALENDAR
PRODID:-//dvv-bw.de//dvv.Portalplattform//DE
VERSION:2.0
METHOD:PUBLISH
BEGIN:VEVENT
DTSTART:20260610T170000Z
DTEND:20260610T190000Z
DTSTAMP:20260419T212041Z
UID:523253078223-523247451059-1781042400000
SUMMARY:Spieletreff
LOCATION:Treff Zehntscheuer, Maiergasse 8, 70771 Leinfelden-Echterdingen
DESCRIPTION:Gesellschafts-\, Brett- und Kartenspiele – alles\, was gefällt. Einfach vorbeikommen und mitspielen.
CLASS:PUBLIC
X-ALT-DESC;FMTTYPE=text/html:Gesellschafts-\, Brett- und Kartenspiele &ndash; alles\, was gefällt. Einfach vorbeikommen und mitspielen.
END:VEVENT
END:VCALENDAR
