BEGIN:VCALENDAR
PRODID:-//dvv-bw.de//dvv.Portalplattform//DE
VERSION:2.0
METHOD:PUBLISH
BEGIN:VEVENT
DTSTART:20260722T123000Z
DTEND:20260722T143000Z
DTSTAMP:20260419T181838Z
UID:523253081912-523248154150-1784671200000
SUMMARY:PC-Hilfe
LOCATION:Treff Zehntscheuer, Maiergasse 8, 70771 Leinfelden-Echterdingen
DESCRIPTION:Im Treff Impuls, jeweils am 2. Freitag im Monat und im Treff Zehntscheuer jeweils am 4. Mittwoch im Monat.
CLASS:PUBLIC
X-ALT-DESC;FMTTYPE=text/html:Im Treff Impuls, jeweils am 2. Freitag im Monat und im Treff Zehntscheuer jeweils am 4. Mittwoch im Monat.
END:VEVENT
END:VCALENDAR
