BEGIN:VCALENDAR
PRODID:-//dvv-bw.de//dvv.Portalplattform//DE
VERSION:2.0
METHOD:PUBLISH
BEGIN:VEVENT
DTSTART:20260726T130000Z
DTEND:20260726T150000Z
DTSTAMP:20260420T172623Z
UID:523253617016-523253589000-1785016800000
SUMMARY:Jim Knopf
LOCATION:Theater unter den Kuppeln\, Gräbleswiesenweg 32\, 70771 Leinfelden-Echterdingen
DESCRIPTION:Taucht ein in die fantastische Welt von Jim Knopf und Lukas dem Lokomotivführer. Eine Geschichte voller Mut\, Freundschaft und der Suche nach der eigenen Herkunft\, die Groß und Klein verzaubern wird.
CLASS:PUBLIC
X-ALT-DESC;FMTTYPE=text/html:Taucht ein in die fantastische Welt von Jim Knopf und Lukas dem Lokomotivführer. Eine Geschichte voller Mut\, Freundschaft und der Suche nach der eigenen Herkunft\, die Groß und Klein verzaubern wird.
END:VEVENT
END:VCALENDAR
