BEGIN:VCALENDAR
PRODID:-//dvv-bw.de//dvv.Portalplattform//DE
VERSION:2.0
METHOD:PUBLISH
BEGIN:VEVENT
DTSTART:20260603T120000Z
DTEND:20260603T150000Z
DTSTAMP:20260419T182841Z
UID:523254376604-523254376500-1780437600000
SUMMARY:IM TAKT DER BLÄTTER
LOCATION:Deutsches Spielkartenmuseum\, Schönbuchstr. 32\, 70771 Leinfelden-Echterdingen
DESCRIPTION:IM TAKT DER BLÄTTER
CLASS:PUBLIC
X-ALT-DESC;FMTTYPE=text/html:IM TAKT DER BLÄTTER
END:VEVENT
END:VCALENDAR
