BEGIN:VCALENDAR
PRODID:-//dvv-bw.de//dvv.Portalplattform//DE
VERSION:2.0
METHOD:PUBLISH
BEGIN:VEVENT
DTSTART:20260503T120000Z
DTEND:20260503T150000Z
DTSTAMP:20260420T011440Z
UID:523254376908-523253543701-1777759200000
SUMMARY:Ausstellung
LOCATION:Deutsches Spielkartenmuseum\, Schönbuchstr. 32\, 70771 Leinfelden-Echterdingen
DESCRIPTION:Bis 3. Mai 2026:\nKABINETTAUSSTELLUNG: Europäische Farbzeichen und Standardkartenbilder mit deutschen Farbzeichen\nDAUERAUSSTELLUNG: Spielkartengeschichte\, museale Objekte\nSONDERAUSSTELLUNG: Indische Spielkarten aus Maisur (Karnataka)\n \nBesuche: mittwochs von 14 Uhr bis 17 Uhr und am ersten Sonntag im Monat von 14 Uhr bis 17 Uhr. \nDer Eintritt ist kostenfrei. Honorarpflichtige Führungen sind an anderen Tagen möglich. Wir freuen uns über Ihren Besuch!\n \nAm 10. Mai 2026 eröffnet der Förderverein im DSM die Sonderausstellung "IM TAKT DER BLÄTTER".\nDaher werden Objekte ab Mitte April in der Ausstellung ergänzt\, bzw. abgebaut.\n \nAchtung: Am 20.05.26 ist das Museum aufgrund einer geschlossenen Gesellschaft erst ab 15 Uhr für Sie geöffnet!
CLASS:PUBLIC
X-ALT-DESC;FMTTYPE=text/html:Bis 3. Mai 2026:<br>KABINETTAUSSTELLUNG: Europäische Farbzeichen und Standardkartenbilder mit deutschen Farbzeichen<br>DAUERAUSSTELLUNG: Spielkartengeschichte\, museale Objekte<br>SONDERAUSSTELLUNG: Indische Spielkarten aus Maisur (Karnataka)<br> <br>Besuche: mittwochs von 14 Uhr bis 17 Uhr und am ersten Sonntag im Monat von 14 Uhr bis 17 Uhr. <br>Der Eintritt ist kostenfrei. Honorarpflichtige Führungen sind an anderen Tagen möglich. Wir freuen uns über Ihren Besuch!<br> <br>Am 10. Mai 2026 eröffnet der Förderverein im DSM die Sonderausstellung "IM TAKT DER BLÄTTER".<br>Daher werden Objekte ab Mitte April in der Ausstellung ergänzt\, bzw. abgebaut.<br> <br>Achtung: Am 20.05.26 ist das Museum aufgrund einer geschlossenen Gesellschaft erst ab 15 Uhr für Sie geöffnet!
END:VEVENT
END:VCALENDAR
